BEGIN:VCALENDAR
VERSION:2.0
PRODID:-//Oecumenische Gemeenschap Emmaüs te EDE - ECPv6.15.17.1//NONSGML v1.0//EN
CALSCALE:GREGORIAN
METHOD:PUBLISH
X-WR-CALNAME:Oecumenische Gemeenschap Emmaüs te EDE
X-ORIGINAL-URL:https://emmaus-ede.nl
X-WR-CALDESC:Evenementen voor Oecumenische Gemeenschap Emmaüs te EDE
REFRESH-INTERVAL;VALUE=DURATION:PT1H
X-Robots-Tag:noindex
X-PUBLISHED-TTL:PT1H
BEGIN:VTIMEZONE
TZID:Europe/Amsterdam
BEGIN:DAYLIGHT
TZOFFSETFROM:+0100
TZOFFSETTO:+0200
TZNAME:CEST
DTSTART:20250330T010000
END:DAYLIGHT
BEGIN:STANDARD
TZOFFSETFROM:+0200
TZOFFSETTO:+0100
TZNAME:CET
DTSTART:20251026T010000
END:STANDARD
BEGIN:DAYLIGHT
TZOFFSETFROM:+0100
TZOFFSETTO:+0200
TZNAME:CEST
DTSTART:20260329T010000
END:DAYLIGHT
BEGIN:STANDARD
TZOFFSETFROM:+0200
TZOFFSETTO:+0100
TZNAME:CET
DTSTART:20261025T010000
END:STANDARD
BEGIN:DAYLIGHT
TZOFFSETFROM:+0100
TZOFFSETTO:+0200
TZNAME:CEST
DTSTART:20270328T010000
END:DAYLIGHT
BEGIN:STANDARD
TZOFFSETFROM:+0200
TZOFFSETTO:+0100
TZNAME:CET
DTSTART:20271031T010000
END:STANDARD
END:VTIMEZONE
BEGIN:VEVENT
DTSTART;TZID=Europe/Amsterdam:20260927T103000
DTEND;TZID=Europe/Amsterdam:20260927T103000
DTSTAMP:20260420T160801
CREATED:20251211T155029Z
LAST-MODIFIED:20260402T140958Z
UID:9035-1790505000-1790505000@emmaus-ede.nl
SUMMARY:Viering - Wilbert van Iperen
DESCRIPTION:
URL:https://emmaus-ede.nl/event/viering-wilbert-van-iperen/
LOCATION:Kerkelijk Centrum Emmaus\, Laan der Verenigde Naties 94\, Ede\, 6716 JE\, Nederland
CATEGORIES:viering
ATTACH;FMTTYPE=image/jpeg:https://emmaus-ede.nl/wp-content/uploads/2025/12/Wilbert-van-Iperen.jpeg
END:VEVENT
END:VCALENDAR