BEGIN:VCALENDAR
VERSION:2.0
PRODID:-//Oecumenische Gemeenschap Emmaüs te EDE - ECPv6.15.17.1//NONSGML v1.0//EN
CALSCALE:GREGORIAN
METHOD:PUBLISH
X-WR-CALNAME:Oecumenische Gemeenschap Emmaüs te EDE
X-ORIGINAL-URL:https://emmaus-ede.nl
X-WR-CALDESC:Evenementen voor Oecumenische Gemeenschap Emmaüs te EDE
REFRESH-INTERVAL;VALUE=DURATION:PT1H
X-Robots-Tag:noindex
X-PUBLISHED-TTL:PT1H
BEGIN:VTIMEZONE
TZID:Europe/Amsterdam
BEGIN:DAYLIGHT
TZOFFSETFROM:+0100
TZOFFSETTO:+0200
TZNAME:CEST
DTSTART:20250330T010000
END:DAYLIGHT
BEGIN:STANDARD
TZOFFSETFROM:+0200
TZOFFSETTO:+0100
TZNAME:CET
DTSTART:20251026T010000
END:STANDARD
BEGIN:DAYLIGHT
TZOFFSETFROM:+0100
TZOFFSETTO:+0200
TZNAME:CEST
DTSTART:20260329T010000
END:DAYLIGHT
BEGIN:STANDARD
TZOFFSETFROM:+0200
TZOFFSETTO:+0100
TZNAME:CET
DTSTART:20261025T010000
END:STANDARD
BEGIN:DAYLIGHT
TZOFFSETFROM:+0100
TZOFFSETTO:+0200
TZNAME:CEST
DTSTART:20270328T010000
END:DAYLIGHT
BEGIN:STANDARD
TZOFFSETFROM:+0200
TZOFFSETTO:+0100
TZNAME:CET
DTSTART:20271031T010000
END:STANDARD
END:VTIMEZONE
BEGIN:VEVENT
DTSTART;TZID=Europe/Amsterdam:20260412T103000
DTEND;TZID=Europe/Amsterdam:20260412T103000
DTSTAMP:20260422T165330
CREATED:20251211T154356Z
LAST-MODIFIED:20260408T184708Z
UID:9010-1775989800-1775989800@emmaus-ede.nl
SUMMARY:Viering - Cocke Post
DESCRIPTION:A.s. zondagmorgen mag ik weer bij jullie voorgaan in de Emmaüs. Op de eerste zondag na Pasen. Het waren bijzondere weken ‘Bewust naar Pasen’ in de 40 dagen. En toen was er het feest van de Opstanding\, terwijl oorlogen woeden en de lente hier losbreekt. Het feest van de Bevrijding is voorbij. En nu:..? Wat staat ons te doen? Hoe wordt de vrijheid voelbaar? Voor iedereen? Hoe doen wij de herinnering aan Jezus recht? Hoe zijn we mens?\nIk zag een programma op de televisie over de schilder Egbert Modderman. Hij heeft in de afgelopen jaren grote schilderingen gemaakt van de werken van Barmhartigheid in de Martinikerk in Groningen. Traditioneel zijn dat er zeven. Maar hij heeft- naar de woorden uit de encycliek van de vorige paus Franciscus- een achtste werk toegevoegd met ‘Zorg voor de schepping’. Ik heb ze alleen nog maar op beeld gezien. Maar ze zijn inspirerend genoeg om in onze viering van zondagmorgen samen te lezen en luisteren\, na te denken en te zingen over barmhartigheid. Is het niet een hopeloos ouderwets woord? Bestaat er eigenlijk nog wel zoiets? en welke houding neem je dan aan?\nZomaar een aantal gedachten en ‘oppoppende’ vragen over dit thema.\nIk wens u nog goede dagen en hopend dat we elkaar zondag treffen.\nHartelijke groet\, Cocke Post
URL:https://emmaus-ede.nl/event/viering-cocke-post-3/
LOCATION:Kerkelijk Centrum Emmaus\, Laan der Verenigde Naties 94\, Ede\, 6716 JE\, Nederland
CATEGORIES:viering
ATTACH;FMTTYPE=image/jpeg:https://emmaus-ede.nl/wp-content/uploads/2025/12/Cocke-Post.jpeg
END:VEVENT
END:VCALENDAR