BEGIN:VCALENDAR
VERSION:2.0
PRODID:-//Oecumenische Gemeenschap Emmaüs te EDE - ECPv6.15.17.1//NONSGML v1.0//EN
CALSCALE:GREGORIAN
METHOD:PUBLISH
X-WR-CALNAME:Oecumenische Gemeenschap Emmaüs te EDE
X-ORIGINAL-URL:https://emmaus-ede.nl
X-WR-CALDESC:Evenementen voor Oecumenische Gemeenschap Emmaüs te EDE
REFRESH-INTERVAL;VALUE=DURATION:PT1H
X-Robots-Tag:noindex
X-PUBLISHED-TTL:PT1H
BEGIN:VTIMEZONE
TZID:Europe/Amsterdam
BEGIN:DAYLIGHT
TZOFFSETFROM:+0100
TZOFFSETTO:+0200
TZNAME:CEST
DTSTART:20250330T010000
END:DAYLIGHT
BEGIN:STANDARD
TZOFFSETFROM:+0200
TZOFFSETTO:+0100
TZNAME:CET
DTSTART:20251026T010000
END:STANDARD
BEGIN:DAYLIGHT
TZOFFSETFROM:+0100
TZOFFSETTO:+0200
TZNAME:CEST
DTSTART:20260329T010000
END:DAYLIGHT
BEGIN:STANDARD
TZOFFSETFROM:+0200
TZOFFSETTO:+0100
TZNAME:CET
DTSTART:20261025T010000
END:STANDARD
BEGIN:DAYLIGHT
TZOFFSETFROM:+0100
TZOFFSETTO:+0200
TZNAME:CEST
DTSTART:20270328T010000
END:DAYLIGHT
BEGIN:STANDARD
TZOFFSETFROM:+0200
TZOFFSETTO:+0100
TZNAME:CET
DTSTART:20271031T010000
END:STANDARD
END:VTIMEZONE
BEGIN:VEVENT
DTSTART;TZID=Europe/Amsterdam:20260322T103000
DTEND;TZID=Europe/Amsterdam:20260322T103000
DTSTAMP:20260423T031735
CREATED:20251211T154340Z
LAST-MODIFIED:20260316T195419Z
UID:9004-1774175400-1774175400@emmaus-ede.nl
SUMMARY:Viering 5e zondag in de 40 dagentijd - Hans Lucassen
DESCRIPTION:In de aanloop naar Pasen\, te midden van een geplaagde wereld\, zoeken wij naar woorden en tekenen van hoop. In Exodus\, het boek van de “Namen” dat ons meeneemt van Woestijn\, Uittocht naar het Beloofde Land horen wij voor Mozes Dé Naam klinken als houvast en richting in onzekere tijden. De Naam waar Jezus uiteindelijk voor ons de vertolker van is geworden. Laten wij op deze 5e zondag van de 40 dagen bidden\, zingen met de psalmist: “Jouw Naam vergeten\, dat zou mijn dood zijn\, leven zonder Jou is leven zonder grond. God laat zien je kracht\, houd ons vast\, verzamel ons mensen in Jouw Stad\, dan zijn wij thuis!”
URL:https://emmaus-ede.nl/event/viering-5e-zondag-in-de-40-dagentijd-hans-lucassen/
LOCATION:Kerkelijk Centrum Emmaus\, Laan der Verenigde Naties 94\, Ede\, 6716 JE\, Nederland
CATEGORIES:viering
ATTACH;FMTTYPE=image/png:https://emmaus-ede.nl/wp-content/uploads/2024/03/Hans_Lucassen-bg-125.png
END:VEVENT
END:VCALENDAR