BEGIN:VCALENDAR
VERSION:2.0
PRODID:-//Oecumenische Gemeenschap Emmaüs te EDE - ECPv6.15.17.1//NONSGML v1.0//EN
CALSCALE:GREGORIAN
METHOD:PUBLISH
X-WR-CALNAME:Oecumenische Gemeenschap Emmaüs te EDE
X-ORIGINAL-URL:https://emmaus-ede.nl
X-WR-CALDESC:Evenementen voor Oecumenische Gemeenschap Emmaüs te EDE
REFRESH-INTERVAL;VALUE=DURATION:PT1H
X-Robots-Tag:noindex
X-PUBLISHED-TTL:PT1H
BEGIN:VTIMEZONE
TZID:Europe/Amsterdam
BEGIN:DAYLIGHT
TZOFFSETFROM:+0100
TZOFFSETTO:+0200
TZNAME:CEST
DTSTART:20250330T010000
END:DAYLIGHT
BEGIN:STANDARD
TZOFFSETFROM:+0200
TZOFFSETTO:+0100
TZNAME:CET
DTSTART:20251026T010000
END:STANDARD
BEGIN:DAYLIGHT
TZOFFSETFROM:+0100
TZOFFSETTO:+0200
TZNAME:CEST
DTSTART:20260329T010000
END:DAYLIGHT
BEGIN:STANDARD
TZOFFSETFROM:+0200
TZOFFSETTO:+0100
TZNAME:CET
DTSTART:20261025T010000
END:STANDARD
BEGIN:DAYLIGHT
TZOFFSETFROM:+0100
TZOFFSETTO:+0200
TZNAME:CEST
DTSTART:20270328T010000
END:DAYLIGHT
BEGIN:STANDARD
TZOFFSETFROM:+0200
TZOFFSETTO:+0100
TZNAME:CET
DTSTART:20271031T010000
END:STANDARD
END:VTIMEZONE
BEGIN:VEVENT
DTSTART;TZID=Europe/Amsterdam:20260308T103000
DTEND;TZID=Europe/Amsterdam:20260308T103000
DTSTAMP:20260423T064735
CREATED:20251211T154340Z
LAST-MODIFIED:20260301T074948Z
UID:9002-1772965800-1772965800@emmaus-ede.nl
SUMMARY:Viering 3e zondag in de 40 dagentijd - Ben Piepers
DESCRIPTION:Tekenen van hoop zoeken en vinden in een wereld vol onrust en spanning. Op zondag 8 maart – internationale vrouwendag – lezen we het verhaal van de Samaritaanse vrouw die met Jezus in gesprek komt wanneer zij water put. Dit verhaal begint met het overstijgen van grote tegenstellingen in die dagen: Vrouw – Man; Samaritaan – Jood. Beide gesprekspartners zoeken diepere lagen van geloven en leven en ontdekken nieuw perspectief….\nHet water staat symbool voor de Thora met o.a. het boek Exodus. Daarin horen we hoe het volk in de woestijn smacht naar water en vertwijfeld ruzie maakt met Mozes… De woestijn als plaats van leren omgaan met crisis en gebrek: in de existentiële nood een uitweg vinden…\nEr zijn geen gemakkelijke wegen van hoop\, het blijft tasten\, zoeken\, in de hoop dat wij leren van het Oude Verhaal voor ons samenleven nu… Het zou mooi zijn als we hoop kunnen putten in de woestijn en bij de bron\, dat iets van de ruimhartigheid van God tastbaar wordt in meditatie\, luisteren\, zingen en bidden.\nDe teksten zijn: Exodus 17\,3-7 en Johannes 4\,5-42.
URL:https://emmaus-ede.nl/event/viering-3e-zondag-in-de-40-dagentijd-ben-piepers/
LOCATION:Kerkelijk Centrum Emmaus\, Laan der Verenigde Naties 94\, Ede\, 6716 JE\, Nederland
CATEGORIES:viering
END:VEVENT
END:VCALENDAR