BEGIN:VCALENDAR
VERSION:2.0
PRODID:-//Oecumenische Gemeenschap Emmaüs te EDE - ECPv6.15.17.1//NONSGML v1.0//EN
CALSCALE:GREGORIAN
METHOD:PUBLISH
X-WR-CALNAME:Oecumenische Gemeenschap Emmaüs te EDE
X-ORIGINAL-URL:https://emmaus-ede.nl
X-WR-CALDESC:Evenementen voor Oecumenische Gemeenschap Emmaüs te EDE
REFRESH-INTERVAL;VALUE=DURATION:PT1H
X-Robots-Tag:noindex
X-PUBLISHED-TTL:PT1H
BEGIN:VTIMEZONE
TZID:Europe/Amsterdam
BEGIN:DAYLIGHT
TZOFFSETFROM:+0100
TZOFFSETTO:+0200
TZNAME:CEST
DTSTART:20250330T010000
END:DAYLIGHT
BEGIN:STANDARD
TZOFFSETFROM:+0200
TZOFFSETTO:+0100
TZNAME:CET
DTSTART:20251026T010000
END:STANDARD
BEGIN:DAYLIGHT
TZOFFSETFROM:+0100
TZOFFSETTO:+0200
TZNAME:CEST
DTSTART:20260329T010000
END:DAYLIGHT
BEGIN:STANDARD
TZOFFSETFROM:+0200
TZOFFSETTO:+0100
TZNAME:CET
DTSTART:20261025T010000
END:STANDARD
BEGIN:DAYLIGHT
TZOFFSETFROM:+0100
TZOFFSETTO:+0200
TZNAME:CEST
DTSTART:20270328T010000
END:DAYLIGHT
BEGIN:STANDARD
TZOFFSETFROM:+0200
TZOFFSETTO:+0100
TZNAME:CET
DTSTART:20271031T010000
END:STANDARD
END:VTIMEZONE
BEGIN:VEVENT
DTSTART;TZID=Europe/Amsterdam:20260404T210000
DTEND;TZID=Europe/Amsterdam:20260404T220000
DTSTAMP:20260422T201253
CREATED:20251211T154355Z
LAST-MODIFIED:20260321T192047Z
UID:9008-1775336400-1775340000@emmaus-ede.nl
SUMMARY:Stille zaterdag  - Paaswake
DESCRIPTION:Een land om van te dromen. \nTijdens deze viering gaan we vanuit het donker op weg naar Pasen\, naar het Licht van de Opstanding. Dat doen we met lezingen\, liederen\, gebeden en een muurkant . Tekenen van hoop en nieuw leven. We mogen onze doopgelofte hernieuwen en de Maaltijd van de Heer vieren. De nieuwe Paaskaars wordt onstoken en we geven het licht aan elkaar door. Als je een nieuwe huispaaskaars hebt\, mag deze ook aan dit licht worden ontstoken. 
URL:https://emmaus-ede.nl/event/stille-zaterdag-egbert-van-dalen/
LOCATION:Kerkelijk Centrum Emmaus\, Laan der Verenigde Naties 94\, Ede\, 6716 JE\, Nederland
CATEGORIES:viering
ATTACH;FMTTYPE=image/jpeg:https://emmaus-ede.nl/wp-content/uploads/2025/12/Handen-Kaarsen.jpg
END:VEVENT
END:VCALENDAR