BEGIN:VCALENDAR
VERSION:2.0
PRODID:-//Oecumenische Gemeenschap Emmaüs te EDE - ECPv6.15.17.1//NONSGML v1.0//EN
CALSCALE:GREGORIAN
METHOD:PUBLISH
X-WR-CALNAME:Oecumenische Gemeenschap Emmaüs te EDE
X-ORIGINAL-URL:https://emmaus-ede.nl
X-WR-CALDESC:Evenementen voor Oecumenische Gemeenschap Emmaüs te EDE
REFRESH-INTERVAL;VALUE=DURATION:PT1H
X-Robots-Tag:noindex
X-PUBLISHED-TTL:PT1H
BEGIN:VTIMEZONE
TZID:Europe/Amsterdam
BEGIN:DAYLIGHT
TZOFFSETFROM:+0100
TZOFFSETTO:+0200
TZNAME:CEST
DTSTART:20250330T010000
END:DAYLIGHT
BEGIN:STANDARD
TZOFFSETFROM:+0200
TZOFFSETTO:+0100
TZNAME:CET
DTSTART:20251026T010000
END:STANDARD
BEGIN:DAYLIGHT
TZOFFSETFROM:+0100
TZOFFSETTO:+0200
TZNAME:CEST
DTSTART:20260329T010000
END:DAYLIGHT
BEGIN:STANDARD
TZOFFSETFROM:+0200
TZOFFSETTO:+0100
TZNAME:CET
DTSTART:20261025T010000
END:STANDARD
BEGIN:DAYLIGHT
TZOFFSETFROM:+0100
TZOFFSETTO:+0200
TZNAME:CEST
DTSTART:20270328T010000
END:DAYLIGHT
BEGIN:STANDARD
TZOFFSETFROM:+0200
TZOFFSETTO:+0100
TZNAME:CET
DTSTART:20271031T010000
END:STANDARD
END:VTIMEZONE
BEGIN:VEVENT
DTSTART;TZID=Europe/Amsterdam:20260403T193000
DTEND;TZID=Europe/Amsterdam:20260403T203000
DTSTAMP:20260422T220033
CREATED:20251211T154341Z
LAST-MODIFIED:20260321T192127Z
UID:9007-1775244600-1775248200@emmaus-ede.nl
SUMMARY:Goede Vrijdag
DESCRIPTION:We gaan de weg. \nTijdens deze viering staan we stil bij de weg die Jezus ging en bij de woorden die hij sprak aan het kruis. Wat heeft zijn weg en wat hebben zijn woorden ons vandaag te zeggen? Is met Goede Vrijdag en het doven van de Paaskaars alle hoop verloren? Met beelden\, liederen en stilte zoeken we naar antwoorden op deze vraag.
URL:https://emmaus-ede.nl/event/goede-vrijdag-2/
LOCATION:Kerkelijk Centrum Emmaus\, Laan der Verenigde Naties 94\, Ede\, 6716 JE\, Nederland
CATEGORIES:viering
ATTACH;FMTTYPE=image/jpeg:https://emmaus-ede.nl/wp-content/uploads/2025/12/unnamed.jpg
END:VEVENT
END:VCALENDAR