BEGIN:VCALENDAR
VERSION:2.0
PRODID:-//Oecumenische Gemeenschap Emmaüs te EDE - ECPv6.15.17.1//NONSGML v1.0//EN
CALSCALE:GREGORIAN
METHOD:PUBLISH
X-WR-CALNAME:Oecumenische Gemeenschap Emmaüs te EDE
X-ORIGINAL-URL:https://emmaus-ede.nl
X-WR-CALDESC:Evenementen voor Oecumenische Gemeenschap Emmaüs te EDE
REFRESH-INTERVAL;VALUE=DURATION:PT1H
X-Robots-Tag:noindex
X-PUBLISHED-TTL:PT1H
BEGIN:VTIMEZONE
TZID:Europe/Amsterdam
BEGIN:DAYLIGHT
TZOFFSETFROM:+0100
TZOFFSETTO:+0200
TZNAME:CEST
DTSTART:20250330T010000
END:DAYLIGHT
BEGIN:STANDARD
TZOFFSETFROM:+0200
TZOFFSETTO:+0100
TZNAME:CET
DTSTART:20251026T010000
END:STANDARD
BEGIN:DAYLIGHT
TZOFFSETFROM:+0100
TZOFFSETTO:+0200
TZNAME:CEST
DTSTART:20260329T010000
END:DAYLIGHT
BEGIN:STANDARD
TZOFFSETFROM:+0200
TZOFFSETTO:+0100
TZNAME:CET
DTSTART:20261025T010000
END:STANDARD
BEGIN:DAYLIGHT
TZOFFSETFROM:+0100
TZOFFSETTO:+0200
TZNAME:CEST
DTSTART:20270328T010000
END:DAYLIGHT
BEGIN:STANDARD
TZOFFSETFROM:+0200
TZOFFSETTO:+0100
TZNAME:CET
DTSTART:20271031T010000
END:STANDARD
END:VTIMEZONE
BEGIN:VEVENT
DTSTART;TZID=Europe/Amsterdam:20260426T103000
DTEND;TZID=Europe/Amsterdam:20260426T103000
DTSTAMP:20260418T210756
CREATED:20251211T154356Z
LAST-MODIFIED:20260418T142548Z
UID:9012-1777199400-1777199400@emmaus-ede.nl
SUMMARY:Viering - Marieke de Vries
DESCRIPTION:Thema: Leven met lef(v)\nJe hart volgen en moed tonen om\, ondanks de dreigingen in onze wereld\, de goede dingen te doen en zo een steentje bij te dragen aan rechtvaardigheid\, vrijheid en vrede.\nWe lezen deze zondag een gedeelte uit de Wijsheid van Jezus Sirach:\n‘En let ook op de raad van je eigen hart\,\nwant geen mens verdient zozeer je vertrouwen.\nHet hart van de mens weet soms meer te melden\,\ndan zeven wachters die hoog op een toren zitten.’\nEn ik deel graag enkele inzichten van inspirerende mensen die leven met lef.\nTot slot vertel ik u ook graag over het initiatief van de Peacewalk\, gestart in Nederland op 25 april.\nMarieke de Vries-Hofman
URL:https://emmaus-ede.nl/event/geen-viering-in-emmaus-geen-voorganger-nodig/
LOCATION:Kerkelijk Centrum Emmaus\, Laan der Verenigde Naties 94\, Ede\, 6716 JE\, Nederland
CATEGORIES:viering
ATTACH;FMTTYPE=image/png:https://emmaus-ede.nl/wp-content/uploads/2023/11/Marieke-de-vries-2024-bg.png
END:VEVENT
END:VCALENDAR